BEGIN:VCALENDAR
VERSION:2.0
PRODID:-//VDKF - ECPv6.15.20//NONSGML v1.0//EN
CALSCALE:GREGORIAN
METHOD:PUBLISH
X-WR-CALNAME:VDKF
X-ORIGINAL-URL:https://www.vdkf.de
X-WR-CALDESC:Veranstaltungen für VDKF
REFRESH-INTERVAL;VALUE=DURATION:PT1H
X-Robots-Tag:noindex
X-PUBLISHED-TTL:PT1H
BEGIN:VTIMEZONE
TZID:Europe/Berlin
BEGIN:DAYLIGHT
TZOFFSETFROM:+0100
TZOFFSETTO:+0200
TZNAME:CEST
DTSTART:20220327T010000
END:DAYLIGHT
BEGIN:STANDARD
TZOFFSETFROM:+0200
TZOFFSETTO:+0100
TZNAME:CET
DTSTART:20221030T010000
END:STANDARD
BEGIN:DAYLIGHT
TZOFFSETFROM:+0100
TZOFFSETTO:+0200
TZNAME:CEST
DTSTART:20230326T010000
END:DAYLIGHT
BEGIN:STANDARD
TZOFFSETFROM:+0200
TZOFFSETTO:+0100
TZNAME:CET
DTSTART:20231029T010000
END:STANDARD
BEGIN:DAYLIGHT
TZOFFSETFROM:+0100
TZOFFSETTO:+0200
TZNAME:CEST
DTSTART:20240331T010000
END:DAYLIGHT
BEGIN:STANDARD
TZOFFSETFROM:+0200
TZOFFSETTO:+0100
TZNAME:CET
DTSTART:20241027T010000
END:STANDARD
END:VTIMEZONE
BEGIN:VEVENT
DTSTART;TZID=Europe/Berlin:20231102T130000
DTEND;TZID=Europe/Berlin:20231102T140000
DTSTAMP:20260423T173437
CREATED:20230512T114056Z
LAST-MODIFIED:20230512T114341Z
UID:10000301-1698930000-1698933600@www.vdkf.de
SUMMARY:VDKF umEINS
DESCRIPTION:„Wie überzeuge ich die Generation Z für mein Ausbildungsangebot?“ \nWeitere Informationen & Anmeldung!
URL:https://www.vdkf.de/event/vdkf-umeins-44/
LOCATION:VDKF Online-Seminar\, Germany
CATEGORIES:VDKF umEINS
ATTACH;FMTTYPE=image/jpeg:https://www.vdkf.de/wp-content/uploads/2021/04/VDKF-umEINS.jpg
ORGANIZER;CN="VDKF":MAILTO:info@vdkf.de
END:VEVENT
BEGIN:VEVENT
DTSTART;TZID=Europe/Berlin:20231107T153000
DTEND;TZID=Europe/Berlin:20231107T210000
DTSTAMP:20260423T173437
CREATED:20230925T114112Z
LAST-MODIFIED:20231002T100505Z
UID:10000364-1699371000-1699390800@www.vdkf.de
SUMMARY:Landesversammlung Hamburg
DESCRIPTION:Gemeinsame Landesversammlung von der Innung für Kälte- und Klimatechnik Hamburg und dem VDKF Landesverband Hamburg.
URL:https://www.vdkf.de/event/golf-lounge-hamburg/
LOCATION:Golf Lounge Resort\, Vorlandring 16\, Hamburg\, 22113\, Germany
CATEGORIES:VDKF
ATTACH;FMTTYPE=image/jpeg:https://www.vdkf.de/wp-content/uploads/2019/09/cropped-VDKF-Logo_quadratisch.jpg
ORGANIZER;CN="VDKF":MAILTO:info@vdkf.de
END:VEVENT
BEGIN:VEVENT
DTSTART;TZID=Europe/Berlin:20231109T130000
DTEND;TZID=Europe/Berlin:20231109T140000
DTSTAMP:20260423T173437
CREATED:20231025T102137Z
LAST-MODIFIED:20231025T105339Z
UID:10000366-1699534800-1699538400@www.vdkf.de
SUMMARY:VDKF umEINS
DESCRIPTION:„Status quo F-Gase-Verordnung und PFAS-Verbot“ \nWeitere Informationen & Anmeldung!
URL:https://www.vdkf.de/event/vdkf-umeins-47/
LOCATION:VDKF Online-Seminar\, Germany
CATEGORIES:VDKF umEINS
ATTACH;FMTTYPE=image/jpeg:https://www.vdkf.de/wp-content/uploads/2021/04/VDKF-umEINS.jpg
ORGANIZER;CN="VDKF":MAILTO:info@vdkf.de
END:VEVENT
BEGIN:VEVENT
DTSTART;VALUE=DATE:20231111
DTEND;VALUE=DATE:20231112
DTSTAMP:20260423T173437
CREATED:20221209T083106Z
LAST-MODIFIED:20231102T143402Z
UID:10000348-1699660800-1699747199@www.vdkf.de
SUMMARY:VDKF-Landesversammlung Sachsen
DESCRIPTION:Gemeinsame Landesversammlung der Sächsischen Innung der Kälte- und Klimatechnik und des VDKF-Landesverbandes Sachsen in Chemnitz.
URL:https://www.vdkf.de/event/landesversammlung-sachsen-2/
LOCATION:Hotel an der Oper Chemnitz\, Straße der Nationen 56\, Chemnitz\, 09111
CATEGORIES:Präsenzveranstaltungen,VDKF
ATTACH;FMTTYPE=image/jpeg:https://www.vdkf.de/wp-content/uploads/2021/07/Original_VDKF_Logo_quadr_400x400.jpg
END:VEVENT
BEGIN:VEVENT
DTSTART;TZID=Europe/Berlin:20231116T130000
DTEND;TZID=Europe/Berlin:20231116T140000
DTSTAMP:20260423T173437
CREATED:20230915T065802Z
LAST-MODIFIED:20230915T065802Z
UID:10000359-1700139600-1700143200@www.vdkf.de
SUMMARY:VDKF umEINS
DESCRIPTION:„Reise in die Welt kleiner Lecks“ \nWeitere Informationen & Anmeldung!
URL:https://www.vdkf.de/event/vdkf-umeins-46/
LOCATION:VDKF Online-Seminar\, Germany
CATEGORIES:VDKF umEINS
ATTACH;FMTTYPE=image/jpeg:https://www.vdkf.de/wp-content/uploads/2021/04/VDKF-umEINS.jpg
ORGANIZER;CN="VDKF":MAILTO:info@vdkf.de
END:VEVENT
BEGIN:VEVENT
DTSTART;TZID=Europe/Berlin:20231128T090000
DTEND;TZID=Europe/Berlin:20231128T170000
DTSTAMP:20260423T173437
CREATED:20230714T072346Z
LAST-MODIFIED:20231127T085640Z
UID:10000354-1701162000-1701190800@www.vdkf.de
SUMMARY:VDKF-LEC PräsenzseminarMaintal
DESCRIPTION:Das Präsenzseminar für den sicheren Umgang mit VDKF-LEC und die Basis zur Erfüllung Ihrer gesetzlichen Pflichten im Zusammenspiel mit der Branchensoftware. \nZur Anmeldung!
URL:https://www.vdkf.de/event/vdkf-lec-praesenzseminarmaintal-2/
LOCATION:Bundesfachschule Kälte-Klima-Technik\, Bruno-Dressler-Straße 14\, Maintal\, 63477\, Germany
CATEGORIES:LEC-Seminare,VDKF
ATTACH;FMTTYPE=image/jpeg:https://www.vdkf.de/wp-content/uploads/2020/12/vdkf-lec-siegel-e1612965836872.jpg
END:VEVENT
BEGIN:VEVENT
DTSTART;TZID=Europe/Berlin:20231129T090000
DTEND;TZID=Europe/Berlin:20231129T163000
DTSTAMP:20260423T173437
CREATED:20221017T080959Z
LAST-MODIFIED:20230823T093044Z
UID:10000334-1701248400-1701275400@www.vdkf.de
SUMMARY:VDKF-Seminar Zahlenmanagement Teil 2
DESCRIPTION:Präsenzseminar zum besseren Umgang mit den eigenen betrieblichen Zahlen und dessen Einsatz als Kontroll- und Steuerungsinstrument. \nWeitere Informationen & Anmeldung!
URL:https://www.vdkf.de/event/zahlenmanagement-im-kaelte-klima-fachbetrieb/
LOCATION:AMERON Bonn Hotel Königshof\, Adenauerallee 9\, Bonn\, 53111\, Germany
CATEGORIES:Präsenzveranstaltungen,VDKF
ATTACH;FMTTYPE=image/jpeg:https://www.vdkf.de/wp-content/uploads/2019/09/cropped-VDKF-Logo_quadratisch.jpg
ORGANIZER;CN="VDKF":MAILTO:info@vdkf.de
END:VEVENT
END:VCALENDAR