BEGIN:VCALENDAR
VERSION:2.0
PRODID:-//VDKF - ECPv6.15.20//NONSGML v1.0//EN
CALSCALE:GREGORIAN
METHOD:PUBLISH
X-ORIGINAL-URL:https://www.vdkf.de
X-WR-CALDESC:Veranstaltungen für VDKF
REFRESH-INTERVAL;VALUE=DURATION:PT1H
X-Robots-Tag:noindex
X-PUBLISHED-TTL:PT1H
BEGIN:VTIMEZONE
TZID:Europe/Berlin
BEGIN:DAYLIGHT
TZOFFSETFROM:+0100
TZOFFSETTO:+0200
TZNAME:CEST
DTSTART:20220327T010000
END:DAYLIGHT
BEGIN:STANDARD
TZOFFSETFROM:+0200
TZOFFSETTO:+0100
TZNAME:CET
DTSTART:20221030T010000
END:STANDARD
BEGIN:DAYLIGHT
TZOFFSETFROM:+0100
TZOFFSETTO:+0200
TZNAME:CEST
DTSTART:20230326T010000
END:DAYLIGHT
BEGIN:STANDARD
TZOFFSETFROM:+0200
TZOFFSETTO:+0100
TZNAME:CET
DTSTART:20231029T010000
END:STANDARD
BEGIN:DAYLIGHT
TZOFFSETFROM:+0100
TZOFFSETTO:+0200
TZNAME:CEST
DTSTART:20240331T010000
END:DAYLIGHT
BEGIN:STANDARD
TZOFFSETFROM:+0200
TZOFFSETTO:+0100
TZNAME:CET
DTSTART:20241027T010000
END:STANDARD
END:VTIMEZONE
BEGIN:VEVENT
DTSTART;TZID=Europe/Berlin:20231201T083000
DTEND;TZID=Europe/Berlin:20231201T123000
DTSTAMP:20260423T154852
CREATED:20230804T062809Z
LAST-MODIFIED:20230804T065646Z
UID:10000355-1701419400-1701433800@www.vdkf.de
SUMMARY:VDKF-LEC Online-Seminar
DESCRIPTION:Unser digitales Angebot für Ihren Einstieg in eine einfache Nutzung von VDKF-LEC. Das Online-Seminar vermittelt die „Grundfunktionalitäten“ von VDKF-LEC  und informiert über gesetzliche Neuerungen. \nzur Anmeldung!
URL:https://www.vdkf.de/event/vdkf-lec-online-seminar-8/
LOCATION:VDKF Online-Seminar\, Germany
CATEGORIES:LEC-Seminare,VDKF
ATTACH;FMTTYPE=image/jpeg:https://www.vdkf.de/wp-content/uploads/2020/12/vdkf-lec-siegel-e1612965836872.jpg
ORGANIZER;CN="VDKF":MAILTO:info@vdkf.de
END:VEVENT
BEGIN:VEVENT
DTSTART;TZID=Europe/Berlin:20231214T130000
DTEND;TZID=Europe/Berlin:20231214T130000
DTSTAMP:20260423T154852
CREATED:20230913T060115Z
LAST-MODIFIED:20230922T071403Z
UID:10000358-1702558800-1702558800@www.vdkf.de
SUMMARY:VDKF umEINS
DESCRIPTION:„Grundlagen des Urlaubsrecht“ \nWeitere Informationen & Anmeldung!
URL:https://www.vdkf.de/event/vdkf-umeins-45/
LOCATION:VDKF Online-Seminar\, Germany
CATEGORIES:VDKF umEINS
ATTACH;FMTTYPE=image/jpeg:https://www.vdkf.de/wp-content/uploads/2021/04/VDKF-umEINS.jpg
ORGANIZER;CN="VDKF":MAILTO:info@vdkf.de
END:VEVENT
END:VCALENDAR