BEGIN:VCALENDAR
VERSION:2.0
PRODID:-//VDKF - ECPv6.15.20//NONSGML v1.0//EN
CALSCALE:GREGORIAN
METHOD:PUBLISH
X-ORIGINAL-URL:https://www.vdkf.de
X-WR-CALDESC:Veranstaltungen für VDKF
REFRESH-INTERVAL;VALUE=DURATION:PT1H
X-Robots-Tag:noindex
X-PUBLISHED-TTL:PT1H
BEGIN:VTIMEZONE
TZID:Europe/Berlin
BEGIN:DAYLIGHT
TZOFFSETFROM:+0100
TZOFFSETTO:+0200
TZNAME:CEST
DTSTART:20230326T010000
END:DAYLIGHT
BEGIN:STANDARD
TZOFFSETFROM:+0200
TZOFFSETTO:+0100
TZNAME:CET
DTSTART:20231029T010000
END:STANDARD
BEGIN:DAYLIGHT
TZOFFSETFROM:+0100
TZOFFSETTO:+0200
TZNAME:CEST
DTSTART:20240331T010000
END:DAYLIGHT
BEGIN:STANDARD
TZOFFSETFROM:+0200
TZOFFSETTO:+0100
TZNAME:CET
DTSTART:20241027T010000
END:STANDARD
BEGIN:DAYLIGHT
TZOFFSETFROM:+0100
TZOFFSETTO:+0200
TZNAME:CEST
DTSTART:20250330T010000
END:DAYLIGHT
BEGIN:STANDARD
TZOFFSETFROM:+0200
TZOFFSETTO:+0100
TZNAME:CET
DTSTART:20251026T010000
END:STANDARD
END:VTIMEZONE
BEGIN:VEVENT
DTSTART;TZID=Europe/Berlin:20240419T080000
DTEND;TZID=Europe/Berlin:20240419T170000
DTSTAMP:20260423T083345
CREATED:20230922T070842Z
LAST-MODIFIED:20230922T071325Z
UID:10000361-1713513600-1713546000@www.vdkf.de
SUMMARY:VDKF Mitgliederversammlung
DESCRIPTION:Mitgliederversammlung gem. §9 der Satzung. \n  \n 
URL:https://www.vdkf.de/event/vdkf-mitgliederversammlung-3/
LOCATION:V8 Hotel Motorworld Region Stuttgart\, Charles-Lindbergh-Platz 1\, Böblingen\, 71034\, Germany
CATEGORIES:VDKF
ATTACH;FMTTYPE=image/jpeg:https://www.vdkf.de/wp-content/uploads/2019/09/cropped-VDKF-Logo_quadratisch.jpg
ORGANIZER;CN="VDKF":MAILTO:info@vdkf.de
END:VEVENT
BEGIN:VEVENT
DTSTART;TZID=Europe/Berlin:20240425T130000
DTEND;TZID=Europe/Berlin:20240425T140000
DTSTAMP:20260423T083345
CREATED:20231215T070701Z
LAST-MODIFIED:20231215T070701Z
UID:10000377-1714050000-1714053600@www.vdkf.de
SUMMARY:VDKF umEINS
DESCRIPTION:„Guide: Was tun bei einem Phishing-Angriff? | 6 Tipps zum Erkennen von Phishing-Mails“ \nWeitere Informationen & Anmeldung!
URL:https://www.vdkf.de/event/vdkf-umeins-53/
LOCATION:VDKF Online-Seminar\, Germany
CATEGORIES:VDKF umEINS
ATTACH;FMTTYPE=image/jpeg:https://www.vdkf.de/wp-content/uploads/2021/04/VDKF-umEINS.jpg
ORGANIZER;CN="VDKF":MAILTO:info@vdkf.de
END:VEVENT
END:VCALENDAR