BEGIN:VCALENDAR
VERSION:2.0
PRODID:-//VDKF - ECPv6.15.20//NONSGML v1.0//EN
CALSCALE:GREGORIAN
METHOD:PUBLISH
X-WR-CALNAME:VDKF
X-ORIGINAL-URL:https://www.vdkf.de
X-WR-CALDESC:Veranstaltungen für VDKF
REFRESH-INTERVAL;VALUE=DURATION:PT1H
X-Robots-Tag:noindex
X-PUBLISHED-TTL:PT1H
BEGIN:VTIMEZONE
TZID:Europe/Berlin
BEGIN:DAYLIGHT
TZOFFSETFROM:+0100
TZOFFSETTO:+0200
TZNAME:CEST
DTSTART:20230326T010000
END:DAYLIGHT
BEGIN:STANDARD
TZOFFSETFROM:+0200
TZOFFSETTO:+0100
TZNAME:CET
DTSTART:20231029T010000
END:STANDARD
BEGIN:DAYLIGHT
TZOFFSETFROM:+0100
TZOFFSETTO:+0200
TZNAME:CEST
DTSTART:20240331T010000
END:DAYLIGHT
BEGIN:STANDARD
TZOFFSETFROM:+0200
TZOFFSETTO:+0100
TZNAME:CET
DTSTART:20241027T010000
END:STANDARD
BEGIN:DAYLIGHT
TZOFFSETFROM:+0100
TZOFFSETTO:+0200
TZNAME:CEST
DTSTART:20250330T010000
END:DAYLIGHT
BEGIN:STANDARD
TZOFFSETFROM:+0200
TZOFFSETTO:+0100
TZNAME:CET
DTSTART:20251026T010000
END:STANDARD
END:VTIMEZONE
BEGIN:VEVENT
DTSTART;TZID=Europe/Berlin:20240516T130000
DTEND;TZID=Europe/Berlin:20240516T140000
DTSTAMP:20260423T063130
CREATED:20240319T103723Z
LAST-MODIFIED:20240319T104052Z
UID:10000394-1715864400-1715868000@www.vdkf.de
SUMMARY:VDKF umEINS
DESCRIPTION:„Status quo novellierte F-Gase-Verordnung“ \nWeitere Informationen & Anmeldung!
URL:https://www.vdkf.de/event/vdkf-umeins-62/
LOCATION:VDKF Online-Seminar\, Germany
CATEGORIES:VDKF umEINS
ATTACH;FMTTYPE=image/jpeg:https://www.vdkf.de/wp-content/uploads/2021/04/VDKF-umEINS.jpg
ORGANIZER;CN="VDKF":MAILTO:info@vdkf.de
END:VEVENT
BEGIN:VEVENT
DTSTART;TZID=Europe/Berlin:20240516T143000
DTEND;TZID=Europe/Berlin:20240516T200000
DTSTAMP:20260423T063130
CREATED:20240409T135212Z
LAST-MODIFIED:20240409T135308Z
UID:10000396-1715869800-1715889600@www.vdkf.de
SUMMARY:VDKF-Landesversammlung Nordrhein
DESCRIPTION:Landesversammlung des VDKF-Landesverbandes Nordrhein.
URL:https://www.vdkf.de/event/vdkf-landesversammlung-nordrhein/
LOCATION:Hotel Essential by Dorint Köln-Junkersdorf\, Aachener Strasse 1059-1061\, Köln\, 50858\, Germany
CATEGORIES:VDKF
ATTACH;FMTTYPE=image/jpeg:https://www.vdkf.de/wp-content/uploads/2019/09/cropped-VDKF-Logo_quadratisch.jpg
ORGANIZER;CN="VDKF":MAILTO:info@vdkf.de
END:VEVENT
BEGIN:VEVENT
DTSTART;TZID=Europe/Berlin:20240521T160000
DTEND;TZID=Europe/Berlin:20240521T190000
DTSTAMP:20260423T063130
CREATED:20240422T121420Z
LAST-MODIFIED:20240422T121420Z
UID:10000397-1716307200-1716318000@www.vdkf.de
SUMMARY:VDKF-Landesversammlung Hamburg
DESCRIPTION:VDKF-Landesversammlung Hamburg zusammen mit der Innung für Kälte- und Klimatechnik Hamburg.
URL:https://www.vdkf.de/event/vdkf-landesversammlung-hamburg/
LOCATION:ELBCAMPUS Hamburg\, Zum Handwerkszentrum 1\, Hamburg\, 21079\, Germany
CATEGORIES:VDKF
ATTACH;FMTTYPE=image/jpeg:https://www.vdkf.de/wp-content/uploads/2020/12/vdkf-logo-header-overlay.jpg
ORGANIZER;CN="VDKF":MAILTO:info@vdkf.de
END:VEVENT
END:VCALENDAR