BEGIN:VCALENDAR
VERSION:2.0
PRODID:-//VDKF - ECPv6.15.20//NONSGML v1.0//EN
CALSCALE:GREGORIAN
METHOD:PUBLISH
X-WR-CALNAME:VDKF
X-ORIGINAL-URL:https://www.vdkf.de
X-WR-CALDESC:Veranstaltungen für VDKF
REFRESH-INTERVAL;VALUE=DURATION:PT1H
X-Robots-Tag:noindex
X-PUBLISHED-TTL:PT1H
BEGIN:VTIMEZONE
TZID:Europe/Berlin
BEGIN:DAYLIGHT
TZOFFSETFROM:+0100
TZOFFSETTO:+0200
TZNAME:CEST
DTSTART:20230326T010000
END:DAYLIGHT
BEGIN:STANDARD
TZOFFSETFROM:+0200
TZOFFSETTO:+0100
TZNAME:CET
DTSTART:20231029T010000
END:STANDARD
BEGIN:DAYLIGHT
TZOFFSETFROM:+0100
TZOFFSETTO:+0200
TZNAME:CEST
DTSTART:20240331T010000
END:DAYLIGHT
BEGIN:STANDARD
TZOFFSETFROM:+0200
TZOFFSETTO:+0100
TZNAME:CET
DTSTART:20241027T010000
END:STANDARD
BEGIN:DAYLIGHT
TZOFFSETFROM:+0100
TZOFFSETTO:+0200
TZNAME:CEST
DTSTART:20250330T010000
END:DAYLIGHT
BEGIN:STANDARD
TZOFFSETFROM:+0200
TZOFFSETTO:+0100
TZNAME:CET
DTSTART:20251026T010000
END:STANDARD
END:VTIMEZONE
BEGIN:VEVENT
DTSTART;VALUE=DATE:20240606
DTEND;VALUE=DATE:20240609
DTSTAMP:20260423T045127
CREATED:20240405T100913Z
LAST-MODIFIED:20240405T101443Z
UID:10000395-1717632000-1717891199@www.vdkf.de
SUMMARY:Historikertagung 2024
DESCRIPTION:Gemeinschaftsveranstaltung des Historische Kälte- und Klimatechnik e.V.\,\nzusammen mit den Senioren des DKV und den VDKF Senioren.
URL:https://www.vdkf.de/event/historikertagung-2024/
LOCATION:Hotel Aquis Grana\, Büchel 32\, Aachen\, 52062\, Germany
CATEGORIES:VDKF
ATTACH;FMTTYPE=image/jpeg:https://www.vdkf.de/wp-content/uploads/2019/09/cropped-VDKF-Logo_quadratisch.jpg
ORGANIZER;CN="VDKF":MAILTO:info@vdkf.de
END:VEVENT
BEGIN:VEVENT
DTSTART;TZID=Europe/Berlin:20240606T130000
DTEND;TZID=Europe/Berlin:20240606T140000
DTSTAMP:20260423T045127
CREATED:20231130T152438Z
LAST-MODIFIED:20231130T152812Z
UID:10000375-1717678800-1717682400@www.vdkf.de
SUMMARY:VDKF umEINS
DESCRIPTION:„Mitarbeitergespräche richtig führen“ \nWeitere Informationen & Anmeldung! \n  \n  \n 
URL:https://www.vdkf.de/event/mitarbeitergespraeche-richtig-fuehren/
LOCATION:VDKF Online-Seminar\, Germany
CATEGORIES:VDKF umEINS
ATTACH;FMTTYPE=image/jpeg:https://www.vdkf.de/wp-content/uploads/2021/04/VDKF-umEINS.jpg
ORGANIZER;CN="VDKF":MAILTO:info@vdkf.de
END:VEVENT
BEGIN:VEVENT
DTSTART;TZID=Europe/Berlin:20240620T130000
DTEND;TZID=Europe/Berlin:20240620T140000
DTSTAMP:20260423T045127
CREATED:20240226T101829Z
LAST-MODIFIED:20240226T101931Z
UID:10000387-1718888400-1718892000@www.vdkf.de
SUMMARY:VDKF umEINS
DESCRIPTION:„Zeiterfassung für mobile Betriebe – mach‘ die Pflicht zur Kür!“ \nWeitere Informationen & Anmeldung!
URL:https://www.vdkf.de/event/vdkf-umeins-55/
LOCATION:VDKF Online-Seminar\, Germany
CATEGORIES:VDKF umEINS
ATTACH;FMTTYPE=image/jpeg:https://www.vdkf.de/wp-content/uploads/2021/04/VDKF-umEINS.jpg
ORGANIZER;CN="VDKF":MAILTO:info@vdkf.de
END:VEVENT
BEGIN:VEVENT
DTSTART;TZID=Europe/Berlin:20240627T130000
DTEND;TZID=Europe/Berlin:20240627T140000
DTSTAMP:20260423T045127
CREATED:20240219T121513Z
LAST-MODIFIED:20240219T122155Z
UID:10000386-1719493200-1719496800@www.vdkf.de
SUMMARY:VDKF umEINS
DESCRIPTION:„Der Materialfluss im Unternehmen – vom Wareneingang bis zur Auslieferung“ \nWeitere Informationen & Anmeldung! \n 
URL:https://www.vdkf.de/event/vdkf-umeins-54/
LOCATION:VDKF Online-Seminar\, Germany
CATEGORIES:VDKF umEINS
ATTACH;FMTTYPE=image/jpeg:https://www.vdkf.de/wp-content/uploads/2021/04/VDKF-umEINS.jpg
ORGANIZER;CN="VDKF":MAILTO:info@vdkf.de
END:VEVENT
END:VCALENDAR