BEGIN:VCALENDAR
VERSION:2.0
PRODID:-//VDKF - ECPv6.15.20//NONSGML v1.0//EN
CALSCALE:GREGORIAN
METHOD:PUBLISH
X-ORIGINAL-URL:https://www.vdkf.de
X-WR-CALDESC:Veranstaltungen für VDKF
REFRESH-INTERVAL;VALUE=DURATION:PT1H
X-Robots-Tag:noindex
X-PUBLISHED-TTL:PT1H
BEGIN:VTIMEZONE
TZID:Europe/Berlin
BEGIN:DAYLIGHT
TZOFFSETFROM:+0100
TZOFFSETTO:+0200
TZNAME:CEST
DTSTART:20230326T010000
END:DAYLIGHT
BEGIN:STANDARD
TZOFFSETFROM:+0200
TZOFFSETTO:+0100
TZNAME:CET
DTSTART:20231029T010000
END:STANDARD
BEGIN:DAYLIGHT
TZOFFSETFROM:+0100
TZOFFSETTO:+0200
TZNAME:CEST
DTSTART:20240331T010000
END:DAYLIGHT
BEGIN:STANDARD
TZOFFSETFROM:+0200
TZOFFSETTO:+0100
TZNAME:CET
DTSTART:20241027T010000
END:STANDARD
BEGIN:DAYLIGHT
TZOFFSETFROM:+0100
TZOFFSETTO:+0200
TZNAME:CEST
DTSTART:20250330T010000
END:DAYLIGHT
BEGIN:STANDARD
TZOFFSETFROM:+0200
TZOFFSETTO:+0100
TZNAME:CET
DTSTART:20251026T010000
END:STANDARD
END:VTIMEZONE
BEGIN:VEVENT
DTSTART;TZID=Europe/Berlin:20240912T100000
DTEND;TZID=Europe/Berlin:20240912T103000
DTSTAMP:20260422T235027
CREATED:20240704T063034Z
LAST-MODIFIED:20240828T120250Z
UID:10000398-1726135200-1726137000@www.vdkf.de
SUMMARY:VDKF Digital
DESCRIPTION:„Digitale Sprechstunde für Website und Online-Marketing“ \nWeitere Informationen & Anmeldung!
URL:https://www.vdkf.de/event/vdkf-digital/
LOCATION:VDKF Online-Sprechstunde\, Germany
CATEGORIES:VDKF
ATTACH;FMTTYPE=image/jpeg:https://www.vdkf.de/wp-content/uploads/2024/07/VDKF-Digital.jpg
ORGANIZER;CN="VDKF":MAILTO:info@vdkf.de
END:VEVENT
BEGIN:VEVENT
DTSTART;TZID=Europe/Berlin:20240912T130000
DTEND;TZID=Europe/Berlin:20240912T140000
DTSTAMP:20260422T235027
CREATED:20240226T123057Z
LAST-MODIFIED:20240226T123217Z
UID:10000388-1726146000-1726149600@www.vdkf.de
SUMMARY:VDKF umEINS
DESCRIPTION:„Branchen- und Betriebsvergleich 2024“ \nWeitere Informationen & Anmeldung!
URL:https://www.vdkf.de/event/vdkf-umeins-56/
LOCATION:VDKF Online-Seminar\, Germany
CATEGORIES:VDKF umEINS
ATTACH;FMTTYPE=image/jpeg:https://www.vdkf.de/wp-content/uploads/2021/04/VDKF-umEINS.jpg
ORGANIZER;CN="VDKF":MAILTO:info@vdkf.de
END:VEVENT
BEGIN:VEVENT
DTSTART;TZID=Europe/Berlin:20240920T100000
DTEND;TZID=Europe/Berlin:20240920T103000
DTSTAMP:20260422T235027
CREATED:20240828T121358Z
LAST-MODIFIED:20240828T121358Z
UID:10000405-1726826400-1726828200@www.vdkf.de
SUMMARY:VDKF Digital
DESCRIPTION:„Digitale Sprechstunde für Website und Online-Marketing“ \nWeitere Informationen & Anmeldung!
URL:https://www.vdkf.de/event/vdkf-digital-2/
LOCATION:VDKF Online-Sprechstunde\, Germany
CATEGORIES:VDKF
ATTACH;FMTTYPE=image/jpeg:https://www.vdkf.de/wp-content/uploads/2024/07/VDKF-Digital.jpg
ORGANIZER;CN="VDKF":MAILTO:info@vdkf.de
END:VEVENT
BEGIN:VEVENT
DTSTART;TZID=Europe/Berlin:20240923T100000
DTEND;TZID=Europe/Berlin:20240923T103000
DTSTAMP:20260422T235027
CREATED:20240828T121853Z
LAST-MODIFIED:20240828T121853Z
UID:10000406-1727085600-1727087400@www.vdkf.de
SUMMARY:VDKF Digital
DESCRIPTION:„Digitale Sprechstunde für Website und Online-Marketing“ \nWeitere Informationen & Anmeldung!
URL:https://www.vdkf.de/event/vdkf-digital-3/
LOCATION:VDKF Online-Sprechstunde\, Germany
CATEGORIES:VDKF
ATTACH;FMTTYPE=image/jpeg:https://www.vdkf.de/wp-content/uploads/2024/07/VDKF-Digital.jpg
ORGANIZER;CN="VDKF":MAILTO:info@vdkf.de
END:VEVENT
BEGIN:VEVENT
DTSTART;VALUE=DATE:20240926
DTEND;VALUE=DATE:20240928
DTSTAMP:20260422T235027
CREATED:20221108T101029Z
LAST-MODIFIED:20240807T062135Z
UID:10000345-1727308800-1727481599@www.vdkf.de
SUMMARY:VDKF - ERFA - Youth Camp - 26./27. September 2024
DESCRIPTION:Jedes ERFA-Seminar ist eine autark organisierte Veranstaltung.\nBei Interesse an einer Teilnahme wenden Sie sich bitte direkt per E-Mail an die VDKF-Geschäftsstelle: info@vdkf.de.
URL:https://www.vdkf.de/event/vdkf-erfa-youth-camp-19-20-januar-2023/
LOCATION:Ippesheim
CATEGORIES:Präsenzveranstaltungen,VDKF
ATTACH;FMTTYPE=image/jpeg:https://www.vdkf.de/wp-content/uploads/2021/07/Original_VDKF_Logo_quadr_400x400.jpg
ORGANIZER;CN="VDKF":MAILTO:info@vdkf.de
END:VEVENT
BEGIN:VEVENT
DTSTART;TZID=Europe/Berlin:20240926T130000
DTEND;TZID=Europe/Berlin:20240926T140000
DTSTAMP:20260422T235027
CREATED:20240226T123746Z
LAST-MODIFIED:20240226T123746Z
UID:10000389-1727355600-1727359200@www.vdkf.de
SUMMARY:VDKF umEINS
DESCRIPTION:„Facebook\, Instagram und Co. – Tipps und Tricks um mehr Reichweite zu gewinnen“ \nWeitere Informationen & Anmeldung!
URL:https://www.vdkf.de/event/vdkf-umeins-57/
LOCATION:VDKF Online-Seminar\, Germany
CATEGORIES:VDKF umEINS
ATTACH;FMTTYPE=image/jpeg:https://www.vdkf.de/wp-content/uploads/2021/04/VDKF-umEINS.jpg
ORGANIZER;CN="VDKF":MAILTO:info@vdkf.de
END:VEVENT
END:VCALENDAR