BEGIN:VCALENDAR
VERSION:2.0
PRODID:-//VDKF - ECPv6.15.20//NONSGML v1.0//EN
CALSCALE:GREGORIAN
METHOD:PUBLISH
X-WR-CALNAME:VDKF
X-ORIGINAL-URL:https://www.vdkf.de
X-WR-CALDESC:Veranstaltungen für VDKF
REFRESH-INTERVAL;VALUE=DURATION:PT1H
X-Robots-Tag:noindex
X-PUBLISHED-TTL:PT1H
BEGIN:VTIMEZONE
TZID:Europe/Berlin
BEGIN:DAYLIGHT
TZOFFSETFROM:+0100
TZOFFSETTO:+0200
TZNAME:CEST
DTSTART:20230326T010000
END:DAYLIGHT
BEGIN:STANDARD
TZOFFSETFROM:+0200
TZOFFSETTO:+0100
TZNAME:CET
DTSTART:20231029T010000
END:STANDARD
BEGIN:DAYLIGHT
TZOFFSETFROM:+0100
TZOFFSETTO:+0200
TZNAME:CEST
DTSTART:20240331T010000
END:DAYLIGHT
BEGIN:STANDARD
TZOFFSETFROM:+0200
TZOFFSETTO:+0100
TZNAME:CET
DTSTART:20241027T010000
END:STANDARD
BEGIN:DAYLIGHT
TZOFFSETFROM:+0100
TZOFFSETTO:+0200
TZNAME:CEST
DTSTART:20250330T010000
END:DAYLIGHT
BEGIN:STANDARD
TZOFFSETFROM:+0200
TZOFFSETTO:+0100
TZNAME:CET
DTSTART:20251026T010000
END:STANDARD
END:VTIMEZONE
BEGIN:VEVENT
DTSTART;TZID=Europe/Berlin:20241107T130000
DTEND;TZID=Europe/Berlin:20241107T140000
DTSTAMP:20260422T203802
CREATED:20240226T124752Z
LAST-MODIFIED:20240226T124752Z
UID:10000391-1730984400-1730988000@www.vdkf.de
SUMMARY:VDKF umEINS
DESCRIPTION:„Reden ist Silber\, Schweigen ist Gold?“ \nWeitere Informationen & Anmeldung!
URL:https://www.vdkf.de/event/vdkf-umeins-59/
LOCATION:VDKF Online-Seminar\, Germany
CATEGORIES:VDKF umEINS
ATTACH;FMTTYPE=image/jpeg:https://www.vdkf.de/wp-content/uploads/2021/04/VDKF-umEINS.jpg
ORGANIZER;CN="VDKF":MAILTO:info@vdkf.de
END:VEVENT
BEGIN:VEVENT
DTSTART;TZID=Europe/Berlin:20241112T170000
DTEND;TZID=Europe/Berlin:20241112T220000
DTSTAMP:20260422T203802
CREATED:20241015T085604Z
LAST-MODIFIED:20241015T085604Z
UID:10000411-1731430800-1731448800@www.vdkf.de
SUMMARY:VDKF-Landesversammlung  Schleswig-Holstein
DESCRIPTION:Gemeinsame Landesversammlung von der Innung für Kälte- und Klimatechnik und dem VDKF Landesverband Schleswig-Holstein.
URL:https://www.vdkf.de/event/vdkf-landesversammlung-schleswig-holstein-2/
LOCATION:Hotel Prisma\, Max-Johannsen-Brücke 1\, Neumünster\, 24537\, Germany
CATEGORIES:VDKF
ATTACH;FMTTYPE=image/jpeg:https://www.vdkf.de/wp-content/uploads/2019/09/cropped-VDKF-Logo_quadratisch.jpg
ORGANIZER;CN="VDKF":MAILTO:info@vdkf.de
END:VEVENT
BEGIN:VEVENT
DTSTART;TZID=Europe/Berlin:20241114T130000
DTEND;TZID=Europe/Berlin:20241114T140000
DTSTAMP:20260422T203802
CREATED:20240226T125245Z
LAST-MODIFIED:20240226T125245Z
UID:10000392-1731589200-1731592800@www.vdkf.de
SUMMARY:VDKF umEINS
DESCRIPTION:„Unternehmensnachfolge“ \nWeitere Informationen & Anmeldung!
URL:https://www.vdkf.de/event/vdkf-umeins-60/
LOCATION:VDKF Online-Seminar\, Germany
CATEGORIES:VDKF umEINS
ATTACH;FMTTYPE=image/jpeg:https://www.vdkf.de/wp-content/uploads/2021/04/VDKF-umEINS.jpg
ORGANIZER;CN="VDKF":MAILTO:info@vdkf.de
END:VEVENT
BEGIN:VEVENT
DTSTART;TZID=Europe/Berlin:20241115T090000
DTEND;TZID=Europe/Berlin:20241115T160000
DTSTAMP:20260422T203802
CREATED:20241015T084229Z
LAST-MODIFIED:20241017T064143Z
UID:10000410-1731661200-1731686400@www.vdkf.de
SUMMARY:VDKF-Landesversammlung Sachsen
DESCRIPTION:Gemeinsame Landesversammlung der Sächsischen Innung der Kälte- und Klimatechnik und des VDKF-Landesverbandes Sachsen.
URL:https://www.vdkf.de/event/vdkf-landesversammlung-sachsen-2/
LOCATION:Tagungszentrum der Sächsischen Wirtschaft GmbH\, Am Alten Güterboden 3\, Radebeul\, 01445\, Germany
CATEGORIES:VDKF
ATTACH;FMTTYPE=image/jpeg:https://www.vdkf.de/wp-content/uploads/2019/09/cropped-VDKF-Logo_quadratisch.jpg
ORGANIZER;CN="VDKF":MAILTO:info@vdkf.de
END:VEVENT
BEGIN:VEVENT
DTSTART;TZID=Europe/Berlin:20241120T103000
DTEND;TZID=Europe/Berlin:20241120T110000
DTSTAMP:20260422T203802
CREATED:20241104T083846Z
LAST-MODIFIED:20241104T091550Z
UID:10000420-1732098600-1732100400@www.vdkf.de
SUMMARY:VDKF Digital
DESCRIPTION:„Digitale Sprechstunde für Website und Online-Marketing“ \nWeitere Informationen & Anmeldung!
URL:https://www.vdkf.de/event/vdkf-digital-7/
LOCATION:VDKF Online-Sprechstunde\, Germany
CATEGORIES:VDKF
ATTACH;FMTTYPE=image/jpeg:https://www.vdkf.de/wp-content/uploads/2024/07/VDKF-Digital.jpg
ORGANIZER;CN="VDKF":MAILTO:info@vdkf.de
END:VEVENT
BEGIN:VEVENT
DTSTART;TZID=Europe/Berlin:20241121T150000
DTEND;TZID=Europe/Berlin:20241121T153000
DTSTAMP:20260422T203802
CREATED:20241017T082841Z
LAST-MODIFIED:20241104T091733Z
UID:10000412-1732201200-1732203000@www.vdkf.de
SUMMARY:VDKF Digital
DESCRIPTION:„Digitale Sprechstunde für (Cloud)-Telefonie“ \nWeitere Informationen & Anmeldung!
URL:https://www.vdkf.de/event/vdkf-digital-6/
LOCATION:VDKF Online-Sprechstunde\, Germany
CATEGORIES:VDKF
ATTACH;FMTTYPE=image/jpeg:https://www.vdkf.de/wp-content/uploads/2024/07/VDKF-Digital.jpg
ORGANIZER;CN="VDKF":MAILTO:info@vdkf.de
END:VEVENT
BEGIN:VEVENT
DTSTART;TZID=Europe/Berlin:20241126T140000
DTEND;TZID=Europe/Berlin:20241126T200000
DTSTAMP:20260422T203802
CREATED:20241104T095823Z
LAST-MODIFIED:20241104T095823Z
UID:10000422-1732629600-1732651200@www.vdkf.de
SUMMARY:VDKF-Landesversammlung  Rheinland-Pfalz
DESCRIPTION:Gemeinsame Landesversammlung von der Innung für Kälte- und Klimatechnik und dem VDKF Landesverband Rheinland-Pfalz.
URL:https://www.vdkf.de/event/vdkf-landesversammlung-rheinland-pfalz/
LOCATION:Hotel Restaurant Maas\, Trierer Strasse 30\, Lutzerath\, 56826\, Germany
CATEGORIES:VDKF
ATTACH;FMTTYPE=image/jpeg:https://www.vdkf.de/wp-content/uploads/2019/09/cropped-VDKF-Logo_quadratisch.jpg
ORGANIZER;CN="VDKF":MAILTO:info@vdkf.de
END:VEVENT
END:VCALENDAR