BEGIN:VCALENDAR
VERSION:2.0
PRODID:-//VDKF - ECPv6.15.20//NONSGML v1.0//EN
CALSCALE:GREGORIAN
METHOD:PUBLISH
X-WR-CALNAME:VDKF
X-ORIGINAL-URL:https://www.vdkf.de
X-WR-CALDESC:Veranstaltungen für VDKF
REFRESH-INTERVAL;VALUE=DURATION:PT1H
X-Robots-Tag:noindex
X-PUBLISHED-TTL:PT1H
BEGIN:VTIMEZONE
TZID:Europe/Berlin
BEGIN:DAYLIGHT
TZOFFSETFROM:+0100
TZOFFSETTO:+0200
TZNAME:CEST
DTSTART:20240331T010000
END:DAYLIGHT
BEGIN:STANDARD
TZOFFSETFROM:+0200
TZOFFSETTO:+0100
TZNAME:CET
DTSTART:20241027T010000
END:STANDARD
BEGIN:DAYLIGHT
TZOFFSETFROM:+0100
TZOFFSETTO:+0200
TZNAME:CEST
DTSTART:20250330T010000
END:DAYLIGHT
BEGIN:STANDARD
TZOFFSETFROM:+0200
TZOFFSETTO:+0100
TZNAME:CET
DTSTART:20251026T010000
END:STANDARD
BEGIN:DAYLIGHT
TZOFFSETFROM:+0100
TZOFFSETTO:+0200
TZNAME:CEST
DTSTART:20260329T010000
END:DAYLIGHT
BEGIN:STANDARD
TZOFFSETFROM:+0200
TZOFFSETTO:+0100
TZNAME:CET
DTSTART:20261025T010000
END:STANDARD
END:VTIMEZONE
BEGIN:VEVENT
DTSTART;TZID=Europe/Berlin:20251111T170000
DTEND;TZID=Europe/Berlin:20251111T210000
DTSTAMP:20260421T222906
CREATED:20250106T103703Z
LAST-MODIFIED:20250717T070505Z
UID:10000423-1762880400-1762894800@www.vdkf.de
SUMMARY:VDKF-Landesversammlung  Schleswig-Holstein
DESCRIPTION:Gemeinsame Landesversammlung von der Innung für Kälte- und Klimatechnik und dem VDKF Landesverband Schleswig-Holstein.
URL:https://www.vdkf.de/event/vdkf-landesversammlung-schleswig-holstein-3/
LOCATION:Hotel Prisma\, Max-Johannsen-Brücke 1\, Neumünster\, 24537\, Germany
CATEGORIES:VDKF
ATTACH;FMTTYPE=image/jpeg:https://www.vdkf.de/wp-content/uploads/2019/09/cropped-VDKF-Logo_quadratisch.jpg
ORGANIZER;CN="VDKF":MAILTO:info@vdkf.de
END:VEVENT
BEGIN:VEVENT
DTSTART;TZID=Europe/Berlin:20251125T140000
DTEND;TZID=Europe/Berlin:20251125T200000
DTSTAMP:20260421T222906
CREATED:20231102T141909Z
LAST-MODIFIED:20250930T124129Z
UID:10000368-1764079200-1764100800@www.vdkf.de
SUMMARY:VDKF-Landesversammlung Rheinland-Pfalz
DESCRIPTION:Gemeinsame Landesversammlung der Innung für Kälte- und Klimatechnik Rheinland-Pfalz und dem VDKF-Landesverband Rheinland Pfalz auf Burg Rheinfels in St. Goar.
URL:https://www.vdkf.de/event/vdkf-landesversammlung-rheinland-pfalz-innung-fuer-kaelte-u-klimatechnik-rheinland-pfalz-am-28-11-2023/
CATEGORIES:Präsenzveranstaltungen,VDKF
ATTACH;FMTTYPE=image/jpeg:https://www.vdkf.de/wp-content/uploads/2020/12/vdkf-logo-header-overlay.jpg
END:VEVENT
BEGIN:VEVENT
DTSTART;VALUE=DATE:20251127
DTEND;VALUE=DATE:20251129
DTSTAMP:20260421T222906
CREATED:20230822T071644Z
LAST-MODIFIED:20250722T131841Z
UID:10000357-1764201600-1764374399@www.vdkf.de
SUMMARY:VDKF - ERFA Süd 27./28.11.2025
DESCRIPTION:Jedes ERFA-Seminar ist eine autark organisierte Veranstaltung. Bei Interesse an einer Teilnahme wenden Sie sich bitte direkt an uns.
URL:https://www.vdkf.de/event/vdkf-erfa-sued-16-17-11-2023/
LOCATION:Nürnberg\, Nürnberg\, Germany
CATEGORIES:Präsenzveranstaltungen,VDKF
ATTACH;FMTTYPE=image/jpeg:https://www.vdkf.de/wp-content/uploads/2020/12/VDKF-Logo_quadratisch-200x200-fuer-Kalender.jpg
ORGANIZER;CN="VDKF":MAILTO:info@vdkf.de
END:VEVENT
END:VCALENDAR