BEGIN:VCALENDAR
VERSION:2.0
PRODID:-//VDKF - ECPv6.15.20//NONSGML v1.0//EN
CALSCALE:GREGORIAN
METHOD:PUBLISH
X-ORIGINAL-URL:https://www.vdkf.de
X-WR-CALDESC:Veranstaltungen für VDKF
REFRESH-INTERVAL;VALUE=DURATION:PT1H
X-Robots-Tag:noindex
X-PUBLISHED-TTL:PT1H
BEGIN:VTIMEZONE
TZID:Europe/Berlin
BEGIN:DAYLIGHT
TZOFFSETFROM:+0100
TZOFFSETTO:+0200
TZNAME:CEST
DTSTART:20240331T010000
END:DAYLIGHT
BEGIN:STANDARD
TZOFFSETFROM:+0200
TZOFFSETTO:+0100
TZNAME:CET
DTSTART:20241027T010000
END:STANDARD
BEGIN:DAYLIGHT
TZOFFSETFROM:+0100
TZOFFSETTO:+0200
TZNAME:CEST
DTSTART:20250330T010000
END:DAYLIGHT
BEGIN:STANDARD
TZOFFSETFROM:+0200
TZOFFSETTO:+0100
TZNAME:CET
DTSTART:20251026T010000
END:STANDARD
BEGIN:DAYLIGHT
TZOFFSETFROM:+0100
TZOFFSETTO:+0200
TZNAME:CEST
DTSTART:20260329T010000
END:DAYLIGHT
BEGIN:STANDARD
TZOFFSETFROM:+0200
TZOFFSETTO:+0100
TZNAME:CET
DTSTART:20261025T010000
END:STANDARD
END:VTIMEZONE
BEGIN:VEVENT
DTSTART;TZID=Europe/Berlin:20251201T160000
DTEND;TZID=Europe/Berlin:20251201T220000
DTSTAMP:20260421T205506
CREATED:20250821T060307Z
LAST-MODIFIED:20250924T100807Z
UID:10000446-1764604800-1764626400@www.vdkf.de
SUMMARY:Landesversammlung Hamburg
DESCRIPTION:VDKF-Landesversammlung Hamburg \nu.a. mit Vorträgen zum Thema: „Status quo -F-Gase VO\, PFAS und Zertifizierungen-VDKF“ und „Natürlich cool\, natürlich warm: Die Rückkehr der natürlichen Kältemittel- Rütgers GmbH“
URL:https://www.vdkf.de/event/__trashed-2/
LOCATION:Cap San Diego\, Überseebrücke\, Hamburg\, 20459\, Germany
CATEGORIES:VDKF
ORGANIZER;CN="VDKF":MAILTO:info@vdkf.de
END:VEVENT
BEGIN:VEVENT
DTSTART;TZID=Europe/Berlin:20251204T130000
DTEND;TZID=Europe/Berlin:20251204T140000
DTSTAMP:20260421T205506
CREATED:20250212T120730Z
LAST-MODIFIED:20250212T120730Z
UID:10000435-1764853200-1764856800@www.vdkf.de
SUMMARY:VDKF umEINS
DESCRIPTION:Social Media Trends \nWeitere Informationen & Anmeldung!
URL:https://www.vdkf.de/event/vdkf-umeins-74/
LOCATION:VDKF Online-Seminar\, Germany
CATEGORIES:VDKF umEINS
ATTACH;FMTTYPE=image/jpeg:https://www.vdkf.de/wp-content/uploads/2021/04/VDKF-umEINS.jpg
ORGANIZER;CN="VDKF":MAILTO:info@vdkf.de
END:VEVENT
BEGIN:VEVENT
DTSTART;TZID=Europe/Berlin:20251211T130000
DTEND;TZID=Europe/Berlin:20251211T140000
DTSTAMP:20260421T205506
CREATED:20250606T070848Z
LAST-MODIFIED:20250606T071006Z
UID:10000444-1765458000-1765461600@www.vdkf.de
SUMMARY:VDKF umEINS
DESCRIPTION:VDKF PowerHour zum Branchen- und Betriebsvergleich \nWeitere Informationen & Anmeldung!
URL:https://www.vdkf.de/event/vdkf-umeins-76/
LOCATION:VDKF Online-Seminar\, Germany
CATEGORIES:VDKF umEINS
ATTACH;FMTTYPE=image/jpeg:https://www.vdkf.de/wp-content/uploads/2021/04/VDKF-umEINS.jpg
ORGANIZER;CN="VDKF":MAILTO:info@vdkf.de
END:VEVENT
BEGIN:VEVENT
DTSTART;TZID=Europe/Berlin:20251218T130000
DTEND;TZID=Europe/Berlin:20251218T140000
DTSTAMP:20260421T205506
CREATED:20251007T095557Z
LAST-MODIFIED:20251007T095808Z
UID:10000447-1766062800-1766066400@www.vdkf.de
SUMMARY:VDKF umEINS
DESCRIPTION:Das PFAS Verbotsvorhaben und die Auswirkungen auf die Kälte-Klimabranche \nWeitere Informationen & Anmeldung!
URL:https://www.vdkf.de/event/vdkf-umeins-50/
LOCATION:VDKF Online-Seminar\, Germany
CATEGORIES:VDKF umEINS
ATTACH;FMTTYPE=image/jpeg:https://www.vdkf.de/wp-content/uploads/2021/04/VDKF-umEINS.jpg
ORGANIZER;CN="VDKF":MAILTO:info@vdkf.de
END:VEVENT
END:VCALENDAR