BEGIN:VCALENDAR
VERSION:2.0
PRODID:-//VDKF - ECPv6.15.20//NONSGML v1.0//EN
CALSCALE:GREGORIAN
METHOD:PUBLISH
X-WR-CALNAME:VDKF
X-ORIGINAL-URL:https://www.vdkf.de
X-WR-CALDESC:Veranstaltungen für VDKF
REFRESH-INTERVAL;VALUE=DURATION:PT1H
X-Robots-Tag:noindex
X-PUBLISHED-TTL:PT1H
BEGIN:VTIMEZONE
TZID:Europe/Berlin
BEGIN:DAYLIGHT
TZOFFSETFROM:+0100
TZOFFSETTO:+0200
TZNAME:CEST
DTSTART:20250330T010000
END:DAYLIGHT
BEGIN:STANDARD
TZOFFSETFROM:+0200
TZOFFSETTO:+0100
TZNAME:CET
DTSTART:20251026T010000
END:STANDARD
BEGIN:DAYLIGHT
TZOFFSETFROM:+0100
TZOFFSETTO:+0200
TZNAME:CEST
DTSTART:20260329T010000
END:DAYLIGHT
BEGIN:STANDARD
TZOFFSETFROM:+0200
TZOFFSETTO:+0100
TZNAME:CET
DTSTART:20261025T010000
END:STANDARD
BEGIN:DAYLIGHT
TZOFFSETFROM:+0100
TZOFFSETTO:+0200
TZNAME:CEST
DTSTART:20270328T010000
END:DAYLIGHT
BEGIN:STANDARD
TZOFFSETFROM:+0200
TZOFFSETTO:+0100
TZNAME:CET
DTSTART:20271031T010000
END:STANDARD
END:VTIMEZONE
BEGIN:VEVENT
DTSTART;TZID=Europe/Berlin:20260205T130000
DTEND;TZID=Europe/Berlin:20260205T140000
DTSTAMP:20260421T172029
CREATED:20251205T074538Z
LAST-MODIFIED:20251205T080000Z
UID:10000448-1770296400-1770300000@www.vdkf.de
SUMMARY:VDKF umEINS
DESCRIPTION:Unternehmenskultur im Handwerk – Wie Sie ein Betriebsklima schaffen\, auf das jeder stolz ist \nWeitere Informationen & Anmeldung!
URL:https://www.vdkf.de/event/vdkf-umeins-51/
LOCATION:VDKF Online-Seminar\, Germany
CATEGORIES:VDKF umEINS
ATTACH;FMTTYPE=image/jpeg:https://www.vdkf.de/wp-content/uploads/2021/04/VDKF-umEINS.jpg
ORGANIZER;CN="VDKF":MAILTO:info@vdkf.de
END:VEVENT
END:VCALENDAR